BEGIN:VCALENDAR
VERSION:2.0
PRODID:-//Samilia Foundation - ECPv6.15.20//NONSGML v1.0//EN
CALSCALE:GREGORIAN
METHOD:PUBLISH
X-WR-CALNAME:Samilia Foundation
X-ORIGINAL-URL:https://samilia.org/en/
X-WR-CALDESC:Events for Samilia Foundation
REFRESH-INTERVAL;VALUE=DURATION:PT1H
X-Robots-Tag:noindex
X-PUBLISHED-TTL:PT1H
BEGIN:VTIMEZONE
TZID:UTC
BEGIN:STANDARD
TZOFFSETFROM:+0000
TZOFFSETTO:+0000
TZNAME:UTC
DTSTART:20250101T000000
END:STANDARD
END:VTIMEZONE
BEGIN:VEVENT
DTSTART;VALUE=DATE:20260327
DTEND;VALUE=DATE:20260328
DTSTAMP:20260423T101355
CREATED:20251125T144010Z
LAST-MODIFIED:20251205T130153Z
UID:5223-1774569600-1774655999@samilia.org
SUMMARY:Conference: Youth at Risk of Human Trafficking
DESCRIPTION:Save the Date! \nOn Friday\, March 27\, we are hosting an international conference at the BNP Paribas Fortis auditorium with the participation of international experts on human trafficking\, as well as Minister Yves Coppietters\, responsible for Women’s Rights and Equal Opportunities. \nThis conference will highlight the absolute necessity of raising awareness among young people about the realities of human trafficking. In Belgium\, an increasing number of young people are victims of two specific forms of trafficking: sexual exploitation and forced criminality\, particularly in drug trafficking.  \nThe conference will be followed by a lavish dinner during which the Samilia Prize – sponsored by the Thierry Speeckaert Foundation – will be awarded.
URL:https://samilia.org/en/event/conference-youth-at-risk-of-human-trafficking/
LOCATION:BNP Paribas Auditorium\, 20\, rue Royale\, Bruxelles\, 1000\, Belgium
CATEGORIES:Conferences / Symposia
ATTACH;FMTTYPE=image/png:https://samilia.org/wp-content/uploads/2025/11/Capture-decran-2025-11-25-153603.png
ORGANIZER;CN="Samilia":MAILTO:info@samilia.org
END:VEVENT
END:VCALENDAR